BEGIN:VCALENDAR
VERSION:2.0
PRODID:-//EEN - ECPv6.15.17.1//NONSGML v1.0//EN
CALSCALE:GREGORIAN
METHOD:PUBLISH
X-ORIGINAL-URL:https://www.een.lu
X-WR-CALDESC:Évènements pour EEN
REFRESH-INTERVAL;VALUE=DURATION:PT1H
X-Robots-Tag:noindex
X-PUBLISHED-TTL:PT1H
BEGIN:VTIMEZONE
TZID:Europe/Paris
BEGIN:DAYLIGHT
TZOFFSETFROM:+0100
TZOFFSETTO:+0200
TZNAME:CEST
DTSTART:20230326T010000
END:DAYLIGHT
BEGIN:STANDARD
TZOFFSETFROM:+0200
TZOFFSETTO:+0100
TZNAME:CET
DTSTART:20231029T010000
END:STANDARD
BEGIN:DAYLIGHT
TZOFFSETFROM:+0100
TZOFFSETTO:+0200
TZNAME:CEST
DTSTART:20240331T010000
END:DAYLIGHT
BEGIN:STANDARD
TZOFFSETFROM:+0200
TZOFFSETTO:+0100
TZNAME:CET
DTSTART:20241027T010000
END:STANDARD
BEGIN:DAYLIGHT
TZOFFSETFROM:+0100
TZOFFSETTO:+0200
TZNAME:CEST
DTSTART:20250330T010000
END:DAYLIGHT
BEGIN:STANDARD
TZOFFSETFROM:+0200
TZOFFSETTO:+0100
TZNAME:CET
DTSTART:20251026T010000
END:STANDARD
END:VTIMEZONE
BEGIN:VEVENT
DTSTART;TZID=Europe/Paris:20241022T140000
DTEND;TZID=Europe/Paris:20241022T163000
DTSTAMP:20260421T132301
CREATED:20240702T082445Z
LAST-MODIFIED:20240702T110340Z
UID:10000046-1729605600-1729614600@www.een.lu
SUMMARY:EU4SMEs
DESCRIPTION:Découvrez tout ce que l’Enterprise Europe Network et les autres acteurs européens peuvent faire pour vous et votre PME ! \n 
URL:https://www.een.lu/event/eu4smes/
ATTACH;FMTTYPE=image/webp:https://www.een.lu/wp-content/uploads/2024/07/Save_the_date-1.webp
END:VEVENT
END:VCALENDAR